BEGIN:VCALENDAR
VERSION:2.0
PRODID:-//ChamberMaster//Event Calendar 2.0//EN
METHOD:PUBLISH
X-PUBLISHED-TTL:P3D
REFRESH-INTERVAL:P3D
CALSCALE:GREGORIAN
BEGIN:VEVENT
DTSTART:20150411T130000Z
DTEND:20150411T190000Z
X-MICROSOFT-CDO-ALLDAYEVENT:FALSE
SUMMARY:Wildflower Van Tour
DESCRIPTION:Spring is a wonderful time to see wildflowers on display in the Valley! Learn about South Texas native wildflowers and the unique habitat they create. This excursion will give participants the opportunity to view and photograph spring wildflowers during their often too brief appearance! Lunch (Sandwich fixings)\, snacks\, drinks and transportation included. Reservations are required up to two days in advance. Fee for the course is $22 for EWBC members and $25 for non-members. For more information or to register\, please call (956) 381-9922 or visit www.EdinburgWBC.org. Space is limited\, so please call early to reserve your seat!
X-ALT-DESC;FMTTYPE=text/html:Spring is a wonderful time to see wildflowers on display in the Valley! Learn about South Texas native wildflowers and the unique habitat they create. This excursion will give participants the opportunity to view and photograph spring wildflowers during their often too brief appearance! Lunch (Sandwich fixings)\, snacks\, drinks and transportation included. Reservations are required up to two days in advance. Fee for the course is $22 for EWBC members and $25 for non-members. For more information or to register\, please call (956) 381-9922 or visit www.EdinburgWBC.org. Space is limited\, so please call early to reserve your seat!
LOCATION:World Birding Center\, South Raul Longoria Road\, Edinburg\, TX\, United States
UID:e.1294.30175
SEQUENCE:3
DTSTAMP:20260425T174101Z
URL:https://business.rgvpartnership.com/events/details/wildflower-van-tour-04-11-2015-30175
END:VEVENT

END:VCALENDAR
