BEGIN:VCALENDAR
VERSION:2.0
PRODID:-//ChamberMaster//Event Calendar 2.0//EN
METHOD:PUBLISH
X-PUBLISHED-TTL:P3D
REFRESH-INTERVAL:P3D
CALSCALE:GREGORIAN
BEGIN:VEVENT
DTSTART:20160402T133000Z
DTEND:20160402T190000Z
X-MICROSOFT-CDO-ALLDAYEVENT:FALSE
SUMMARY:Wild in Willacy Clay Shoot Competition
DESCRIPTION:The Raymondville Chamber of Commerce will host its first Wild in Willacy Clay Shoot Competition at the Nopalito Ranch north of Raymondville
X-ALT-DESC;FMTTYPE=text/html:The Raymondville Chamber of Commerce will host its first Wild in Willacy Clay Shoot Competition at the Nopalito Ranch north of Raymondville
LOCATION:14.5 Mi North Expressway 77 Nopalito Ranch
UID:e.1294.30283
SEQUENCE:3
DTSTAMP:20260424T212336Z
URL:https://business.rgvpartnership.com/events/details/wild-in-willacy-clay-shoot-competition-04-02-2016-30283
END:VEVENT

END:VCALENDAR
