BEGIN:VCALENDAR
VERSION:2.0
PRODID:-//ChamberMaster//Event Calendar 2.0//EN
METHOD:PUBLISH
X-PUBLISHED-TTL:P3D
REFRESH-INTERVAL:P3D
CALSCALE:GREGORIAN
BEGIN:VEVENT
DTSTART:20150124T160000Z
DTEND:20150124T170000Z
X-MICROSOFT-CDO-ALLDAYEVENT:FALSE
SUMMARY:Wetlands by Becky Reyes at Valley Nature Center
DESCRIPTION:Becky Reyes will be speaking with us about RGV Wetlands. Wetlands are one of nature?s most efficient water filters. Coffee and pastries served. Bring a friend. $3.00 admission includes trails and native plant nursery.
X-ALT-DESC;FMTTYPE=text/html:Becky Reyes will be speaking with us about RGV Wetlands. Wetlands are one of nature?s most efficient water filters. Coffee and pastries served. Bring a friend. $3.00 admission includes trails and native plant nursery.
LOCATION:Valley Nature Center 301 South Border Ave Weslaco\, TX 78596
UID:e.1294.30131
SEQUENCE:3
DTSTAMP:20260425T220525Z
URL:https://business.rgvpartnership.com/events/details/wetlands-by-becky-reyes-at-valley-nature-center-01-24-2015-30131
END:VEVENT

END:VCALENDAR
