BEGIN:VCALENDAR
VERSION:2.0
PRODID:-//ChamberMaster//Event Calendar 2.0//EN
METHOD:PUBLISH
X-PUBLISHED-TTL:P3D
REFRESH-INTERVAL:P3D
CALSCALE:GREGORIAN
BEGIN:VEVENT
DTSTART:20150123T180000Z
DTEND:20150210T180000Z
X-MICROSOFT-CDO-ALLDAYEVENT:FALSE
SUMMARY:Weslaco Lions and Valley Nature Center team up for the Weslaco Lions Mid-Winter
DESCRIPTION:Bringing in a food donation to the Valley Nature Center will also get you $1 off admission! Thanks to our friends at the Valley Nature Center\, Burton Auto Supply\, and The Law Office of Richard Talbert\, for serving as drop-off locations for our food drive! Bringing in a food donation to the Valley Nature Center will also get you $1 off admission! It's supposed to be a beautiful weekend\, so grab your donation and head on over! To celebrate 100 years of Lionism and our founder Melvin Jones' birthday\, Weslaco Lions are starting a food drive to benefit Food Bank RGV INC\, and to educate people about how they can make their food donation count the most. The Food Bank has said that they have seen an increase in need in January 2015. Food insecurity is a critical issue in our area. We've listed here some of the most critical items needed. Donations are always accepted at our weekly Tuesday noon meeting at Pimientos Restaurant & Bar. We will update soon with more dropoff areas. Drop-off Location Valley Nature Center 301 South Border Ave. Weslaco\, Texas 78596 956-969-2475
X-ALT-DESC;FMTTYPE=text/html:Bringing in a food donation to the Valley Nature Center will also get you $1 off admission! Thanks to our friends at the Valley Nature Center\, Burton Auto Supply\, and The Law Office of Richard Talbert\, for serving as drop-off locations for our food drive! Bringing in a food donation to the Valley Nature Center will also get you $1 off admission! It&#39\;s supposed to be a beautiful weekend\, so grab your donation and head on over! To celebrate 100 years of Lionism and our founder Melvin Jones&#39\; birthday\, Weslaco Lions are starting a food drive to benefit Food Bank RGV INC\, and to educate people about how they can make their food donation count the most. The Food Bank has said that they have seen an increase in need in January 2015. Food insecurity is a critical issue in our area. We&#39\;ve listed here some of the most critical items needed. Donations are always accepted at our weekly Tuesday noon meeting at Pimientos Restaurant &amp\; Bar. We will update soon with more dropoff areas. Drop-off Location Valley Nature Center 301 South Border Ave. Weslaco\, Texas 78596 956-969-2475
LOCATION:Valley Nature Center 301 South Border Ave. Weslaco\, Texas 78596
UID:e.1294.30146
SEQUENCE:3
DTSTAMP:20260425T202822Z
URL:https://business.rgvpartnership.com/events/details/weslaco-lions-and-valley-nature-center-team-up-for-the-weslaco-lions-mid-winter-01-23-2015-30146
END:VEVENT

END:VCALENDAR
