BEGIN:VCALENDAR
VERSION:2.0
PRODID:-//ChamberMaster//Event Calendar 2.0//EN
METHOD:PUBLISH
X-PUBLISHED-TTL:P3D
REFRESH-INTERVAL:P3D
CALSCALE:GREGORIAN
BEGIN:VEVENT
DTSTART:20150328T143000Z
DTEND:20150328T170000Z
X-MICROSOFT-CDO-ALLDAYEVENT:FALSE
SUMMARY:Webelos Naturalist Workshop
DESCRIPTION:Webelos Naturalist Workshop at Laguna Atascosa National Wildlife Refuge Saturday\, March 28th 9:30am - 12pm Webelos are encouraged to register and attend this workshop which will help them earn their Naturalist Badge. The workshop will be free (including entry). Spaces are limited! Call the Ranger to register: 956-748-3607/3608 ext. 119
X-ALT-DESC;FMTTYPE=text/html:Webelos Naturalist Workshop at Laguna Atascosa National Wildlife Refuge Saturday\, March 28th 9:30am - 12pm Webelos are encouraged to register and attend this workshop which will help them earn their Naturalist Badge. The workshop will be free (including entry). Spaces are limited! Call the Ranger to register: 956-748-3607/3608 ext. 119
LOCATION:Laguna Atascosa National Wildlife Refuge 22688 Buena Vista Blvd Los Fresnos\, TX 78566
UID:e.1294.30208
SEQUENCE:3
DTSTAMP:20260425T185424Z
URL:https://business.rgvpartnership.com/events/details/webelos-naturalist-workshop-03-28-2015-30208
END:VEVENT

END:VCALENDAR
