BEGIN:VCALENDAR
VERSION:2.0
PRODID:-//ChamberMaster//Event Calendar 2.0//EN
METHOD:PUBLISH
X-PUBLISHED-TTL:P3D
REFRESH-INTERVAL:P3D
CALSCALE:GREGORIAN
BEGIN:VEVENT
DTSTART:20150425T210000Z
DTEND:20150426T020000Z
X-MICROSOFT-CDO-ALLDAYEVENT:FALSE
SUMMARY:Walk-N-Rolla
DESCRIPTION:Walk-N-Rolla is a family-friendly charity 5K Run/Walk\, Competitive Criterium Bike Race\, Kid?s Bike Rodeo\, and Mutt Strut. Proceeds from the event will be donated to South Texas Juvenile Diabetes Association (STJDA).
X-ALT-DESC;FMTTYPE=text/html:Walk-N-Rolla is a family-friendly charity 5K Run/Walk\, Competitive Criterium Bike Race\, Kid?s Bike Rodeo\, and Mutt Strut. Proceeds from the event will be donated to South Texas Juvenile Diabetes Association (STJDA).
LOCATION:McIntyre Street Project\, Edinburg\, TX
UID:e.1294.30226
SEQUENCE:3
DTSTAMP:20260425T173752Z
URL:https://business.rgvpartnership.com/events/details/walk-n-rolla-04-25-2015-30226
END:VEVENT

END:VCALENDAR
