BEGIN:VCALENDAR
VERSION:2.0
PRODID:-//ChamberMaster//Event Calendar 2.0//EN
METHOD:PUBLISH
X-PUBLISHED-TTL:P3D
REFRESH-INTERVAL:P3D
CALSCALE:GREGORIAN
BEGIN:VEVENT
DTSTART:20150616T133000Z
DTEND:20150827T153000Z
X-MICROSOFT-CDO-ALLDAYEVENT:FALSE
SUMMARY:Volunteers in the Park
DESCRIPTION:Join nature center staff for a fun morning of work in the thornforest! Projects include weeding garden beds\, trail pruning\, invasive species removal\, raking trails\, and more. Learn about native plants and their benefit to wildlife. Ages: All ages welcome (15 and under with the supervision of a parent or guardian only). Note: Groups of 5 or more\, please register in advance. Call 681-3333 to schedule your group.
X-ALT-DESC;FMTTYPE=text/html:Join nature center staff for a fun morning of work in the thornforest! Projects include weeding garden beds\, trail pruning\, invasive species removal\, raking trails\, and more. Learn about native plants and their benefit to wildlife. Ages: All ages welcome (15 and under with the supervision of a parent or guardian only). Note: Groups of 5 or more\, please register in advance. Call 681-3333 to schedule your group.
LOCATION:McAllen Nature Center 4101 W Business 83\, McAllen
UID:e.1294.30237
SEQUENCE:3
DTSTAMP:20260425T101853Z
URL:https://business.rgvpartnership.com/events/details/volunteers-in-the-park-06-16-2015-30237
END:VEVENT

END:VCALENDAR
