BEGIN:VCALENDAR
VERSION:2.0
PRODID:-//ChamberMaster//Event Calendar 2.0//EN
METHOD:PUBLISH
X-PUBLISHED-TTL:P3D
REFRESH-INTERVAL:P3D
CALSCALE:GREGORIAN
BEGIN:VEVENT
DTSTART:20170928T000000Z
DTEND:20170928T013000Z
X-MICROSOFT-CDO-ALLDAYEVENT:FALSE
SUMMARY:Valley Root Series: Architecture of the Lower Rio Grande Valley Photography Project
DESCRIPTION:Come and join us as Pino Shah\, a world heritage photographer takes us through a journey of the Texas-Mexico border region history and heritage.
X-ALT-DESC;FMTTYPE=text/html:Come and join us as Pino Shah\, a world heritage photographer takes us through a journey of the Texas-Mexico border region history and heritage.
LOCATION:McAllen Public Library 4001 N 23rd Street McAllen\, Texas 78504
UID:e.1294.30395
SEQUENCE:3
DTSTAMP:20260423T211945Z
URL:https://business.rgvpartnership.com/events/details/valley-root-series-architecture-of-the-lower-rio-grande-valley-photography-project-30395
END:VEVENT

END:VCALENDAR
