BEGIN:VCALENDAR
VERSION:2.0
PRODID:-//ChamberMaster//Event Calendar 2.0//EN
METHOD:PUBLISH
X-PUBLISHED-TTL:P3D
REFRESH-INTERVAL:P3D
CALSCALE:GREGORIAN
BEGIN:VEVENT
DTSTART:20170503T003000Z
DTEND:20170503T020000Z
X-MICROSOFT-CDO-ALLDAYEVENT:FALSE
SUMMARY:UTRGV Wind Symphony & Brownsville Wind Symphony Pops Concert
DESCRIPTION:Student Ensemble Series
X-ALT-DESC;FMTTYPE=text/html:Student Ensemble Series
LOCATION:TSC Arts Center 80 Fort Brown St. Brownsville\, TX. 78520
UID:e.1294.30357
SEQUENCE:3
DTSTAMP:20260424T030120Z
URL:https://business.rgvpartnership.com/events/details/utrgv-wind-symphony-brownsville-wind-symphony-pops-concert-05-02-2017-30357
END:VEVENT

END:VCALENDAR
