BEGIN:VCALENDAR
VERSION:2.0
PRODID:-//ChamberMaster//Event Calendar 2.0//EN
METHOD:PUBLISH
X-PUBLISHED-TTL:P3D
REFRESH-INTERVAL:P3D
CALSCALE:GREGORIAN
BEGIN:VEVENT
DTSTART:20171015T000000Z
DTEND:20171015T020000Z
X-MICROSOFT-CDO-ALLDAYEVENT:FALSE
SUMMARY:Upper Valley Art League Exhibition Opening
DESCRIPTION:The Upper Valley Art League invites the public to its first annual 5 X 7 Fundraiser. Original 5" x 7" artworks by Upper Valley Art League members will be on sale during the reception on Oct. 14. All 5 x 7 artworks are $25.00 each. Once you make your purchase\, you can immediately take your artwork home with you. Proceeds from 5 X 7 help support programs that promote the creation of art in the community. The exhibition will open with a reception on Sat. October 14 from 7-9 p.m at the Kika de la Garza Fine Arts Center\, 921 E. 12th St. in Mission. In conjunction with the 5 x 7 exhibition\, we are proud to present ceramic artwork by UVAL members. The majority of the artwork was created in the clay studio in UVAL's art annex. Members meet during open studio hours to work on individual clay pieces\, while learning the intricacies of hand built and hand thrown objects. Experienced members share their knowledge in all aspects of the creation of ceramics. UVAL also hosts workshops that non-members may participate in. The exhibition runs through Saturday\, Nov. 4\, and is free and open to the public. The gallery is open Tue - Fri 10 a.m. to 6 p.m. and Sat. 10 to 2 p.m.. Please call to confirm hours. The Upper Valley Art League is a membership-based nonprofit arts organization dedicated to teaching\, preserving and inspiring the arts in the RGV. For additional information about UVAL\, its classes\, events and exhibitions.
X-ALT-DESC;FMTTYPE=text/html:The Upper Valley Art League invites the public to its first annual 5 X 7 Fundraiser. Original 5&rdquo\; x 7&rdquo\; artworks by Upper Valley Art League members will be on sale during the reception on Oct. 14. All 5 x 7 artworks are $25.00 each. Once you make your purchase\, you can immediately take your artwork home with you. Proceeds from 5 X 7 help support programs that promote the creation of art in the community. The exhibition will open with a reception on Sat. October 14 from 7-9 p.m at the Kika de la Garza Fine Arts Center\, 921 E. 12th St. in Mission. In conjunction with the 5 x 7 exhibition\, we are proud to present ceramic artwork by UVAL members. The majority of the artwork was created in the clay studio in UVAL&rsquo\;s art annex. Members meet during open studio hours to work on individual clay pieces\, while learning the intricacies of hand built and hand thrown objects. Experienced members share their knowledge in all aspects of the creation of ceramics. UVAL also hosts workshops that non-members may participate in. The exhibition runs through Saturday\, Nov. 4\, and is free and open to the public. The gallery is open Tue - Fri 10 a.m. to 6 p.m. and Sat. 10 to 2 p.m.. Please call to confirm hours. The Upper Valley Art League is a membership-based nonprofit arts organization dedicated to teaching\, preserving and inspiring the arts in the RGV. For additional information about UVAL\, its classes\, events and exhibitions.
LOCATION:921 E. 12th St.\, Mission\, TX 78572
UID:e.1294.30401
SEQUENCE:3
DTSTAMP:20260423T195149Z
URL:https://business.rgvpartnership.com/events/details/upper-valley-art-league-exhibition-opening-30401
END:VEVENT

END:VCALENDAR
