BEGIN:VCALENDAR
VERSION:2.0
PRODID:-//ChamberMaster//Event Calendar 2.0//EN
METHOD:PUBLISH
X-PUBLISHED-TTL:P3D
REFRESH-INTERVAL:P3D
CALSCALE:GREGORIAN
BEGIN:VEVENT
DTSTART:20150207T190000Z
DTEND:20150207T220000Z
X-MICROSOFT-CDO-ALLDAYEVENT:FALSE
SUMMARY:University of Phoenix Open House Event
DESCRIPTION:Discover all that University of Phoenix has to offer! Attend our Open House and learn about our wide range of degree programs\, tour our campus\, and meet our faculty and advisors.\n\n\n\nYou'll even be able to explore our online learning platform and check out our classrooms. Its time to get the education you want!
X-ALT-DESC;FMTTYPE=text/html:Discover all that University of Phoenix has to offer! Attend our Open House and learn about our wide range of degree programs\, tour our campus\, and meet our faculty and advisors.<br />\n<br />\nYou&#39\;ll even be able to explore our online learning platform and check out our classrooms. Its time to get the education you want!
LOCATION:University of Phoenix
UID:e.1294.30148
SEQUENCE:3
DTSTAMP:20260425T202611Z
URL:https://business.rgvpartnership.com/events/details/university-of-phoenix-open-house-event-02-07-2015-30148
END:VEVENT

END:VCALENDAR
