BEGIN:VCALENDAR
VERSION:2.0
PRODID:-//ChamberMaster//Event Calendar 2.0//EN
METHOD:PUBLISH
X-PUBLISHED-TTL:P3D
REFRESH-INTERVAL:P3D
CALSCALE:GREGORIAN
BEGIN:VEVENT
DTSTART:20150829T193000Z
DTEND:20150829T203000Z
X-MICROSOFT-CDO-ALLDAYEVENT:FALSE
SUMMARY:Turtles: From Land to Sea Puppet Show
DESCRIPTION:Join us on this FREE Saturday. The EWBC staff will be providing visitors with some great entertainment. Bring the family out and enjoy our "Turtles: From Land to Sea" puppet show. Learn about turtles and the different habitats they belong to. For more information please call us at (956) 381-9922.
X-ALT-DESC;FMTTYPE=text/html:Join us on this FREE Saturday. The EWBC staff will be providing visitors with some great entertainment. Bring the family out and enjoy our &quot\;Turtles: From Land to Sea&quot\; puppet show. Learn about turtles and the different habitats they belong to. For more information please call us at (956) 381-9922.
LOCATION:World Birding Center\, 714 South Raul Longoria Road\, Edinburg\, TX 78542\, United States
UID:e.1294.30206
SEQUENCE:3
DTSTAMP:20260425T103256Z
URL:https://business.rgvpartnership.com/events/details/turtles-from-land-to-sea-puppet-show-08-29-2015-30206
END:VEVENT

END:VCALENDAR
