BEGIN:VCALENDAR
VERSION:2.0
PRODID:-//ChamberMaster//Event Calendar 2.0//EN
METHOD:PUBLISH
X-PUBLISHED-TTL:P3D
REFRESH-INTERVAL:P3D
CALSCALE:GREGORIAN
BEGIN:VEVENT
DTSTART:20161028T230000Z
DTEND:20161029T020000Z
X-MICROSOFT-CDO-ALLDAYEVENT:FALSE
SUMMARY:Trunk or Treat by RSA PSTO
DESCRIPTION:Rising Scholars Academy of STISD PSTO TRUNK OR TREAT October 28th 6:00PM-9:00PM 151 South Helen Moore Road in San Benito Adults 18 and over $2 17 and under $1 Kids 2 and under FREE
X-ALT-DESC;FMTTYPE=text/html:Rising Scholars Academy of STISD PSTO TRUNK OR TREAT October 28th 6:00PM-9:00PM 151 South Helen Moore Road in San Benito Adults 18 and over $2 17 and under $1 Kids 2 and under FREE
LOCATION:151 South Helen Moore Road in San Benito
UID:e.1294.30367
SEQUENCE:3
DTSTAMP:20260424T132129Z
URL:https://business.rgvpartnership.com/events/details/trunk-or-treat-by-rsa-psto-30367
END:VEVENT

END:VCALENDAR
