BEGIN:VCALENDAR
VERSION:2.0
PRODID:-//ChamberMaster//Event Calendar 2.0//EN
METHOD:PUBLISH
X-PUBLISHED-TTL:P3D
REFRESH-INTERVAL:P3D
CALSCALE:GREGORIAN
BEGIN:VEVENT
DTSTART:20141220T160000Z
DTEND:20141220T170000Z
X-MICROSOFT-CDO-ALLDAYEVENT:FALSE
SUMMARY:Transportation/GIS (Geographic Information System) by Sarah Hardage
DESCRIPTION:Join Sarah Hardage Saturday December 20 10:00am at Valley Nature center for a information filled program. Whether you are restoring habitats\, planting crops\, drilling for oil\, or monitoring endangered species there is increasing optimism that the application of GIS tools will help us become a more sustainable planet. Coffee and pastries will be served. $3.00 admission includes access to the trails and plant nursery.
X-ALT-DESC;FMTTYPE=text/html:Join Sarah Hardage Saturday December 20 10:00am at Valley Nature center for a information filled program. Whether you are restoring habitats\, planting crops\, drilling for oil\, or monitoring endangered species there is increasing optimism that the application of GIS tools will help us become a more sustainable planet. Coffee and pastries will be served. $3.00 admission includes access to the trails and plant nursery.
LOCATION:Valley Nature Center 301 South Border Ave Weslaco\, Texas 78596
UID:e.1294.30121
SEQUENCE:3
DTSTAMP:20260425T232322Z
URL:https://business.rgvpartnership.com/events/details/transportation-gis-geographic-information-system-by-sarah-hardage-12-20-2014-30121
END:VEVENT

END:VCALENDAR
