BEGIN:VCALENDAR
VERSION:2.0
PRODID:-//ChamberMaster//Event Calendar 2.0//EN
METHOD:PUBLISH
X-PUBLISHED-TTL:P3D
REFRESH-INTERVAL:P3D
CALSCALE:GREGORIAN
BEGIN:VEVENT
DTSTART:20160919T230000Z
DTEND:20160920T003000Z
X-MICROSOFT-CDO-ALLDAYEVENT:FALSE
SUMMARY:Town Hall Meeting
DESCRIPTION:Join us and get informed. Together we can prevent the misuse and abuse of prescription drugs. A panel of professional speakers will share their knowledge on the effect of prescription drug abuse in our community.
X-ALT-DESC;FMTTYPE=text/html:Join us and get informed. Together we can prevent the misuse and abuse of prescription drugs. A panel of professional speakers will share their knowledge on the effect of prescription drug abuse in our community.
LOCATION:Proyecto Desarrollo 17617 Sabal Palm Dr. Penitas\, TX
UID:e.1294.30360
SEQUENCE:3
DTSTAMP:20260424T143629Z
URL:https://business.rgvpartnership.com/events/details/town-hall-meeting-30360
END:VEVENT

END:VCALENDAR
