BEGIN:VCALENDAR
VERSION:2.0
PRODID:-//ChamberMaster//Event Calendar 2.0//EN
METHOD:PUBLISH
X-PUBLISHED-TTL:P3D
REFRESH-INTERVAL:P3D
CALSCALE:GREGORIAN
BEGIN:VEVENT
DTSTART;VALUE=DATE:20180321
DTEND;VALUE=DATE:20180322
TRANSP:TRANSPARENT
X-MICROSOFT-CDO-ALLDAYEVENT:TRUE
SUMMARY:Tourist Day 2018
DESCRIPTION:42 Anneversary of the Tourist Day in this border town expecting more than 20 thousand visitors\,
X-ALT-DESC;FMTTYPE=text/html:42 Anneversary of the Tourist Day in this border town expecting more than 20 thousand visitors\,
LOCATION:Nuevo Progreso\, Mexico
UID:e.1294.30417
SEQUENCE:3
DTSTAMP:20260423T124324Z
URL:https://business.rgvpartnership.com/events/details/tourist-day-2018-30417
END:VEVENT

END:VCALENDAR
