BEGIN:VCALENDAR
VERSION:2.0
PRODID:-//ChamberMaster//Event Calendar 2.0//EN
METHOD:PUBLISH
X-PUBLISHED-TTL:P3D
REFRESH-INTERVAL:P3D
CALSCALE:GREGORIAN
BEGIN:VEVENT
DTSTART:20150629T140000Z
DTEND:20150701T160000Z
X-MICROSOFT-CDO-ALLDAYEVENT:FALSE
SUMMARY:Tot's Nature Camp
DESCRIPTION:The Edinburg Scenic Wetlands and World Birding Center (EWBC) is proud to present a new camp the entire family can enjoy. This summer\, even the youngest ones in your family can experience nature and its many splendors. Spend time together learning about nature in a secure and safe environment. Additionally\, meet the EWBC puppet friends\, explore the outdoors\, engage in song and dance and much more while interacting with other tots. The Tots Nature Camp is for children ages one to three. The camp will run Monday\, June 29th thru Wednesday\, July 1st from 9 ? 11 a.m. The fee for this camp is $10 for those with a Scenic Wetlands membership and $14 for those that are not yet members. Price includes one free guardian per child. Space is limited so please call ahead to register no later than one week prior to the start of camp. For more information call (956)381-9922 or visit www.edinburgwbc.org.
X-ALT-DESC;FMTTYPE=text/html:The Edinburg Scenic Wetlands and World Birding Center (EWBC) is proud to present a new camp the entire family can enjoy. This summer\, even the youngest ones in your family can experience nature and its many splendors. Spend time together learning about nature in a secure and safe environment. Additionally\, meet the EWBC puppet friends\, explore the outdoors\, engage in song and dance and much more while interacting with other tots. The Tots Nature Camp is for children ages one to three. The camp will run Monday\, June 29th thru Wednesday\, July 1st from 9 ? 11 a.m. The fee for this camp is $10 for those with a Scenic Wetlands membership and $14 for those that are not yet members. Price includes one free guardian per child. Space is limited so please call ahead to register no later than one week prior to the start of camp. For more information call (956)381-9922 or visit www.edinburgwbc.org.
LOCATION:World Birding Center\, South Raul Longoria Road\, Edinburg\, TX\, United States
UID:e.1294.30192
SEQUENCE:3
DTSTAMP:20260425T103200Z
URL:https://business.rgvpartnership.com/events/details/tot-s-nature-camp-06-29-2015-30192
END:VEVENT

END:VCALENDAR
