BEGIN:VCALENDAR
VERSION:2.0
PRODID:-//ChamberMaster//Event Calendar 2.0//EN
METHOD:PUBLISH
X-PUBLISHED-TTL:P3D
REFRESH-INTERVAL:P3D
CALSCALE:GREGORIAN
BEGIN:VEVENT
DTSTART:20150404T140000Z
DTEND:20150404T153000Z
X-MICROSOFT-CDO-ALLDAYEVENT:FALSE
SUMMARY:Toddler Play Dates
DESCRIPTION:Would you like your toddler to learn more about nature with others their age? Then come by the Edinburg Scenic Wetlands & World Birding Center (EWBC) for Toddler Play Dates for families with children ages 1- 4. Toddler Play Dates are held once a month in Spring. Each play date features a theme that your children will no doubt love and be inspired by. The play dates will include hands-on\, interactive play for you and your children in a safe and happy environment. Activities may include puppet shows\, story-telling\, puzzle time\, free play\, coloring\, crafts\, and guided walks throughout the grounds. Program Dates : March 7th: Owls April 4th: Fish May 9th: Dragonflies June: 13th: Snakes July 18th: Ladybugs August 15th: Rabbits Time: 9 a.m. ? 10:30 a.m. Fee: $2 per toddler with a supervising adult\, additional family members not taking part in this program need to pay EWBC admission fees.Space is limited so please call ahead to register. For more information please call us at (956) 381-9922 or visit our website at www.edinburgwbc.org.
X-ALT-DESC;FMTTYPE=text/html:Would you like your toddler to learn more about nature with others their age? Then come by the Edinburg Scenic Wetlands &amp\; World Birding Center (EWBC) for Toddler Play Dates for families with children ages 1- 4. Toddler Play Dates are held once a month in Spring. Each play date features a theme that your children will no doubt love and be inspired by. The play dates will include hands-on\, interactive play for you and your children in a safe and happy environment. Activities may include puppet shows\, story-telling\, puzzle time\, free play\, coloring\, crafts\, and guided walks throughout the grounds. Program Dates : March 7th: Owls April 4th: Fish May 9th: Dragonflies June: 13th: Snakes July 18th: Ladybugs August 15th: Rabbits Time: 9 a.m. ? 10:30 a.m. Fee: $2 per toddler with a supervising adult\, additional family members not taking part in this program need to pay EWBC admission fees.Space is limited so please call ahead to register. For more information please call us at (956) 381-9922 or visit our website at www.edinburgwbc.org.
LOCATION:World Birding Center\, South Raul Longoria Road\, Edinburg\, TX\, United States
UID:e.1294.30173
SEQUENCE:3
DTSTAMP:20260425T111019Z
URL:https://business.rgvpartnership.com/events/details/toddler-play-dates-04-04-2015-30173
END:VEVENT

END:VCALENDAR
