BEGIN:VCALENDAR
VERSION:2.0
PRODID:-//ChamberMaster//Event Calendar 2.0//EN
METHOD:PUBLISH
X-PUBLISHED-TTL:P3D
REFRESH-INTERVAL:P3D
CALSCALE:GREGORIAN
BEGIN:VEVENT
DTSTART:20150718T180000Z
DTEND:20150718T200000Z
X-MICROSOFT-CDO-ALLDAYEVENT:FALSE
SUMMARY:The Villas of South Padre Tour of Homes
DESCRIPTION:Local Realtors will be hosting Open Houses at several listings in this exclusive subdivision. Stop by and find your Island Oasis.
X-ALT-DESC;FMTTYPE=text/html:Local Realtors will be hosting Open Houses at several listings in this exclusive subdivision. Stop by and find your Island Oasis.
LOCATION:6500 Padre Boulevard South Padre\, TX
UID:e.1294.30240
SEQUENCE:3
DTSTAMP:20260425T103601Z
URL:https://business.rgvpartnership.com/events/details/the-villas-of-south-padre-tour-of-homes-07-18-2015-30240
END:VEVENT

END:VCALENDAR
