BEGIN:VCALENDAR
VERSION:2.0
PRODID:-//ChamberMaster//Event Calendar 2.0//EN
METHOD:PUBLISH
X-PUBLISHED-TTL:P3D
REFRESH-INTERVAL:P3D
CALSCALE:GREGORIAN
BEGIN:VEVENT
DTSTART:20151205T160000Z
DTEND:20151205T190000Z
X-MICROSOFT-CDO-ALLDAYEVENT:FALSE
SUMMARY:THE RGV VETERANS? BENEFIT & INFORMATION FAIR
DESCRIPTION:RGV Helping Hands\, the City of Harlingen and the VLB-Texas Veterans Land Board\, plus other Non-profit groups\, Government agencies and businesses who offer services to Veterans
X-ALT-DESC;FMTTYPE=text/html:RGV Helping Hands\, the City of Harlingen and the VLB-Texas Veterans Land Board\, plus other Non-profit groups\, Government agencies and businesses who offer services to Veterans
LOCATION:Harlingen Community Center at 201 E Madison Ave\, Harlingen\, TX\, 78550-4905
UID:e.1294.30259
SEQUENCE:3
DTSTAMP:20260425T032307Z
URL:https://business.rgvpartnership.com/events/details/the-rgv-veterans-benefit-information-fair-12-05-2015-30259
END:VEVENT

END:VCALENDAR
