BEGIN:VCALENDAR
VERSION:2.0
PRODID:-//ChamberMaster//Event Calendar 2.0//EN
METHOD:PUBLISH
X-PUBLISHED-TTL:P3D
REFRESH-INTERVAL:P3D
CALSCALE:GREGORIAN
BEGIN:VEVENT
DTSTART:20161021T230000Z
DTEND:20161022T010000Z
X-MICROSOFT-CDO-ALLDAYEVENT:FALSE
SUMMARY:Texas Inmate Families Association Monthly Meeting
DESCRIPTION:TIFA is a 501(c)(3) non-profit. Our mission is to break the cycle of crime by strengthening families through support\, education\, and advocacy. Our local chapters monthly meetings provide education and information about TDCJ and the criminal justice system in Texas as well as a safe and supportive environment to voice your concerns.
X-ALT-DESC;FMTTYPE=text/html:TIFA is a 501(c)(3) non-profit. Our mission is to break the cycle of crime by strengthening families through support\, education\, and advocacy. Our local chapters monthly meetings provide education and information about TDCJ and the criminal justice system in Texas as well as a safe and supportive environment to voice your concerns.
LOCATION:Calvary Baptist Church - Slayton Building 1600 Harvey Dr. McAllen\, TX 78501
UID:e.1294.30364
SEQUENCE:3
DTSTAMP:20260424T144234Z
URL:https://business.rgvpartnership.com/events/details/texas-inmate-families-association-monthly-meeting-30364
END:VEVENT

END:VCALENDAR
