BEGIN:VCALENDAR
VERSION:2.0
PRODID:-//ChamberMaster//Event Calendar 2.0//EN
METHOD:PUBLISH
X-PUBLISHED-TTL:P3D
REFRESH-INTERVAL:P3D
CALSCALE:GREGORIAN
BEGIN:VEVENT
DTSTART:20150516T193000Z
DTEND:20150516T210000Z
X-MICROSOFT-CDO-ALLDAYEVENT:FALSE
SUMMARY:Tales & Myths
DESCRIPTION:Throughout human history\, tales & myths have been used to explain and define our world. Animals & plants often played center stage in many folk tales. Come and attend our folklore presentations relating to animals & plants told around the world. Participants will enjoy an indoor presentation and show & tell followed by a story walk through our grounds. March 7th: Birds April 18th: Wildflowers May 16th: Mammals TIME: 2:30 p.m. - 4:00 p.m. FEE: Regular Admission. Members Free. For more information contact us at (956) 381-9922 or visit our website at www.EdinburgWBC.org
X-ALT-DESC;FMTTYPE=text/html:Throughout human history\, tales &amp\; myths have been used to explain and define our world. Animals &amp\; plants often played center stage in many folk tales. Come and attend our folklore presentations relating to animals &amp\; plants told around the world. Participants will enjoy an indoor presentation and show &amp\; tell followed by a story walk through our grounds. March 7th: Birds April 18th: Wildflowers May 16th: Mammals TIME: 2:30 p.m. - 4:00 p.m. FEE: Regular Admission. Members Free. For more information contact us at (956) 381-9922 or visit our website at www.EdinburgWBC.org
LOCATION:Edinburg Scenic Wetlands & World Birding Center. 714 Raul Longoria Rd. Edinburg\, TX 78540
UID:e.1294.30228
SEQUENCE:3
DTSTAMP:20260425T161227Z
URL:https://business.rgvpartnership.com/events/details/tales-myths-05-16-2015-30228
END:VEVENT

END:VCALENDAR
