BEGIN:VCALENDAR
VERSION:2.0
PRODID:-//ChamberMaster//Event Calendar 2.0//EN
METHOD:PUBLISH
X-PUBLISHED-TTL:P3D
REFRESH-INTERVAL:P3D
CALSCALE:GREGORIAN
BEGIN:VEVENT
DTSTART:20151212T150000Z
DTEND:20151212T150000Z
X-MICROSOFT-CDO-ALLDAYEVENT:FALSE
SUMMARY:Take your leadership to the next level
DESCRIPTION:Take your leadership to the next level\n\nEarn an advanced leadership degree from the Valley's Catholic University\n\n  PhD in Leadership Studies\n\n  Master of Science in Organizational Leadership\n\nInformation Session\n\nSaturday\, Dec. 12\n\n9 a.m.\n\nOther degree options available at the OLLU campus in the Rio Grande Valley:\n\n \n\n	\n		\n			Master's Degrees\n\n			  Business - MBA\n\n			  Social Work - MSW\n			 \n			 \n			 \n			 \n			Bachelor's Degrees\n\n			  Computer Information Systems and Security\n\n			  Criminology and Criminal Justice\n\n			  Psychology\n\n			  Social Work
X-ALT-DESC;FMTTYPE=text/html:<strong><span style="font-size: 24pt\;"><span style="font-family: arial\,sans-serif\;"><span style="color: rgb(0\, 84\, 129)\;">Take your leadership to the next level</span></span></span></strong><br />\n<span style="font-size: medium\;"><em><span style="font-family: arial\,sans-serif\;"><span style="color: rgb(0\, 84\, 129)\;">Earn an advanced leadership degree from the Valley&#39\;s Catholic University</span></span></em></span><br />\n<strong><span style="font-size: 13.5pt\;"><span style="font-family: arial\,sans-serif\;"><span style="color: rgb(0\, 84\, 129)\;">&bull\; PhD in Leadership Studies</span></span></span></strong><br />\n<strong><span style="font-size: 13.5pt\;"><span style="font-family: arial\,sans-serif\;"><span style="color: rgb(0\, 84\, 129)\;"><strong><span style="font-family: arial\,sans-serif\;">&bull\; Master of Science in Organizational Leadership</span></strong></span></span></span></strong><br />\n<strong><span style="font-size: 18pt\;"><span style="font-family: arial\,sans-serif\;"><span style="color: rgb(0\, 84\, 129)\;">Information Session</span></span></span></strong><br />\n<strong><span style="font-size: 13.5pt\;"><span style="font-family: arial\,sans-serif\;"><span style="color: rgb(0\, 84\, 129)\;"><strong><span style="font-family: arial\,sans-serif\;">Saturday\, Dec. 12</span></strong><br />\n<strong><span style="font-family: arial\,sans-serif\;">9 a.m.</span></strong></span></span></span><br />\n<span style="font-size: 10pt\;"><span style="font-family: arial\,sans-serif\;"><span style="color: rgb(0\, 84\, 129)\;">Other degree options available at the OLLU campus in the Rio Grande Valley:</span></span></span></strong><br />\n&nbsp\;\n<table border="0" cellpadding="0" cellspacing="3">\n	<tbody>\n		<tr>\n			<td style="padding: 0.75pt\; border: rgb(0\, 0\, 0)\; border-image: none\; vertical-align: top\;"><strong><span style="font-size: 10pt\;"><span style="font-family: arial\,sans-serif\;"><span style="color: rgb(0\, 84\, 129)\;">Master&#39\;s Degrees</span></span></span></strong><br />\n			<span style="font-size: 10pt\;"><span style="font-family: arial\,sans-serif\;"><span style="color: rgb(0\, 84\, 129)\;">&bull\; Business - MBA<br />\n			&bull\; Social Work - MSW</span></span></span></td>\n			<td style="padding: 0.75pt\; border: rgb(0\, 0\, 0)\; border-image: none\;">&nbsp\;</td>\n			<td style="padding: 0.75pt\; border: rgb(0\, 0\, 0)\; border-image: none\;">&nbsp\;</td>\n			<td style="padding: 0.75pt\; border: rgb(0\, 0\, 0)\; border-image: none\;">&nbsp\;</td>\n			<td style="padding: 0.75pt\; border: rgb(0\, 0\, 0)\; border-image: none\;">&nbsp\;</td>\n			<td style="padding: 0.75pt\; border: rgb(0\, 0\, 0)\; border-image: none\;"><strong><span style="font-size: 10pt\;"><span style="font-family: arial\,sans-serif\;"><span style="color: rgb(0\, 84\, 129)\;">Bachelor&#39\;s Degrees</span></span></span></strong><br />\n			<span style="font-size: 10pt\;"><span style="font-family: arial\,sans-serif\;"><span style="color: rgb(0\, 84\, 129)\;">&bull\; Computer Information Systems and Security<br />\n			&bull\; Criminology and Criminal Justice<br />\n			&bull\; Psychology<br />\n			&bull\; Social Work</span></span></span></td>\n		</tr>\n	</tbody>\n</table>\n<br />\n&nbsp\;
LOCATION:Our Lady of the Lake University - Rio Grande Valley 505 N. Villarreal La Feria\, Texas 78559
UID:e.1294.30263
SEQUENCE:3
DTSTAMP:20260425T032240Z
URL:https://business.rgvpartnership.com/events/details/take-your-leadership-to-the-next-level-12-12-2015-30263
END:VEVENT

END:VCALENDAR
