BEGIN:VCALENDAR
VERSION:2.0
PRODID:-//ChamberMaster//Event Calendar 2.0//EN
METHOD:PUBLISH
X-PUBLISHED-TTL:P3D
REFRESH-INTERVAL:P3D
CALSCALE:GREGORIAN
BEGIN:VEVENT
DTSTART:20141030T230000Z
DTEND:20141101T010000Z
X-MICROSOFT-CDO-ALLDAYEVENT:FALSE
SUMMARY:Tailgate Gossiple
DESCRIPTION:Music\, Invitation to our church on Sunday\, Tailgate Candy given out by our church members
X-ALT-DESC;FMTTYPE=text/html:Music\, Invitation to our church on Sunday\, Tailgate Candy given out by our church members
LOCATION:25203 1st. Street Monte Alto tx 78538
UID:e.1294.30078
SEQUENCE:3
DTSTAMP:20260426T023449Z
URL:https://business.rgvpartnership.com/events/details/tailgate-gossiple-10-30-2014-30078
END:VEVENT

END:VCALENDAR
