BEGIN:VCALENDAR
VERSION:2.0
PRODID:-//ChamberMaster//Event Calendar 2.0//EN
METHOD:PUBLISH
X-PUBLISHED-TTL:P3D
REFRESH-INTERVAL:P3D
CALSCALE:GREGORIAN
BEGIN:VEVENT
DTSTART:20150110T160000Z
DTEND:20150110T170000Z
X-MICROSOFT-CDO-ALLDAYEVENT:FALSE
SUMMARY:Sustainability by Maria Patterson
DESCRIPTION:January 10\,2015 10:00am Maria Patterson Sustainability Sustainability is how biological systems remain diverse and productive. Long-lived and healthy wetlands and forests are examples of sustainable biological systems. Does your child have an up-coming science fair project? Here is an excellent subject for them to present. Let's learn how we can practice sustainability in our daily lives. Coffee and pastries will be served. Your $3.00 admission includes access to the nature trails and native plant nursery. Information:956-969-2475 Achieving sustainability will enable the Earth to continue supporting human life.
X-ALT-DESC;FMTTYPE=text/html:January 10\,2015 10:00am Maria Patterson Sustainability Sustainability is how biological systems remain diverse and productive. Long-lived and healthy wetlands and forests are examples of sustainable biological systems. Does your child have an up-coming science fair project? Here is an excellent subject for them to present. Let&#39\;s learn how we can practice sustainability in our daily lives. Coffee and pastries will be served. Your $3.00 admission includes access to the nature trails and native plant nursery. Information:956-969-2475 Achieving sustainability will enable the Earth to continue supporting human life.
LOCATION:Valley Nature Center 31 South Border Ave Weslaco\, TX 78596
UID:e.1294.30126
SEQUENCE:3
DTSTAMP:20260425T232246Z
URL:https://business.rgvpartnership.com/events/details/sustainability-by-maria-patterson-01-10-2015-30126
END:VEVENT

END:VCALENDAR
