BEGIN:VCALENDAR
VERSION:2.0
PRODID:-//ChamberMaster//Event Calendar 2.0//EN
METHOD:PUBLISH
X-PUBLISHED-TTL:P3D
REFRESH-INTERVAL:P3D
CALSCALE:GREGORIAN
BEGIN:VEVENT
DTSTART:20141018T140000Z
DTEND:20141018T170000Z
X-MICROSOFT-CDO-ALLDAYEVENT:FALSE
SUMMARY:STC Academic Affairs and the Office of Human Resources- Adjunct Job Fair
DESCRIPTION:
X-ALT-DESC;FMTTYPE=text/html:
LOCATION:South Texas College- Pecan Campus Building H 3201 W. Pecan Blvd. McAllen\, TX 78501
UID:e.1294.30092
SEQUENCE:3
DTSTAMP:20260426T024132Z
URL:https://business.rgvpartnership.com/events/details/stc-academic-affairs-and-the-office-of-human-resources-adjunct-job-fair-10-18-2014-30092
END:VEVENT

END:VCALENDAR
