BEGIN:VCALENDAR
VERSION:2.0
PRODID:-//ChamberMaster//Event Calendar 2.0//EN
METHOD:PUBLISH
X-PUBLISHED-TTL:P3D
REFRESH-INTERVAL:P3D
CALSCALE:GREGORIAN
BEGIN:VEVENT
DTSTART:20190306T173000Z
DTEND:20190306T193000Z
X-MICROSOFT-CDO-ALLDAYEVENT:FALSE
SUMMARY:State of the RGV Construction and Real Estate Economy
DESCRIPTION:Join local architects\, engineers and construction companies as we discuss construction and investment trends.
X-ALT-DESC;FMTTYPE=text/html:<h1 style="margin: 0px\;"><span style="color:#0066cc\;"><span style="font-size:16px\;"><span style="font-family:verdana\;"><strong><span style="margin: 0px\;">Join local architects\, engineers and construction companies as we discuss&nbsp\;construction and investment trends.</span></strong></span></span></span></h1>\n\n<h1>&nbsp\;</h1>\n
LOCATION:Knapp Conference Center 1401 E. 8th St. Weslaco\, Texas 78596
UID:e.1294.30427
SEQUENCE:3
DTSTAMP:20260422T194218Z
URL:https://business.rgvpartnership.com/events/details/state-of-the-rgv-construction-and-real-estate-economy-30427
END:VEVENT

END:VCALENDAR
