BEGIN:VCALENDAR
VERSION:2.0
PRODID:-//ChamberMaster//Event Calendar 2.0//EN
METHOD:PUBLISH
X-PUBLISHED-TTL:P3D
REFRESH-INTERVAL:P3D
CALSCALE:GREGORIAN
BEGIN:VEVENT
DTSTART:20190307T233000Z
DTEND:20190308T013000Z
X-MICROSOFT-CDO-ALLDAYEVENT:FALSE
SUMMARY:St. Paddy's Day Member's Mixer
DESCRIPTION:Calling all members of the RGV Partnership to join us for a St. Paddy's Day mixer.
X-ALT-DESC;FMTTYPE=text/html:<span style="color:#008000\;"><span style="font-family:arial\;"><span style="font-size:22px\;">Calling all members of the RGV Partnership to join us for a St. Paddy&#39\;s Day mixer.&nbsp\;</span></span></span><br />\n&nbsp\;
LOCATION:Venture X 6710 W Expressway 83 Suite A201 (2nd Floor) Harlingen\, Texas 78552
UID:e.1294.30428
SEQUENCE:3
DTSTAMP:20260422T194051Z
URL:https://business.rgvpartnership.com/events/details/st-paddy-s-day-member-s-mixer-30428
END:VEVENT

END:VCALENDAR
