BEGIN:VCALENDAR
VERSION:2.0
PRODID:-//ChamberMaster//Event Calendar 2.0//EN
METHOD:PUBLISH
X-PUBLISHED-TTL:P3D
REFRESH-INTERVAL:P3D
CALSCALE:GREGORIAN
BEGIN:VEVENT
DTSTART:20150418T140000Z
DTEND:20150418T153000Z
X-MICROSOFT-CDO-ALLDAYEVENT:FALSE
SUMMARY:Spring Blooms
DESCRIPTION:Join EWBC staff and take a tour along our grounds as we explore and and identify the various flowers blooming for the Spring and learn how you too can enjoy these beautiful flowers in your own garden! View beautiful flowers such as our Huisache\, Wild Olive\, Retama\, Red Sage\, Mesquite\, Mexican Trixis\, Texas Lantana\, among others as we walk along the trails! Fee: $2 members (Excludes Winter Membership)\, $3 non-members
X-ALT-DESC;FMTTYPE=text/html:Join EWBC staff and take a tour along our grounds as we explore and and identify the various flowers blooming for the Spring and learn how you too can enjoy these beautiful flowers in your own garden! View beautiful flowers such as our Huisache\, Wild Olive\, Retama\, Red Sage\, Mesquite\, Mexican Trixis\, Texas Lantana\, among others as we walk along the trails! Fee: $2 members (Excludes Winter Membership)\, $3 non-members
LOCATION:Edinburg Scenic Wetlands & World Birding Center. 714 Raul Longoria RD\, Edinburg TX 78542
UID:e.1294.30176
SEQUENCE:3
DTSTAMP:20260425T160203Z
URL:https://business.rgvpartnership.com/events/details/spring-blooms-04-18-2015-30176
END:VEVENT

END:VCALENDAR
