BEGIN:VCALENDAR
VERSION:2.0
PRODID:-//ChamberMaster//Event Calendar 2.0//EN
METHOD:PUBLISH
X-PUBLISHED-TTL:P3D
REFRESH-INTERVAL:P3D
CALSCALE:GREGORIAN
BEGIN:VEVENT
DTSTART:20150530T130000Z
DTEND:20150530T220000Z
X-MICROSOFT-CDO-ALLDAYEVENT:FALSE
SUMMARY:Spectacular Saturdays!
DESCRIPTION:The weather is great\, and wildlife are arriving by the day. It is a wonderful time to get outside and enjoy nature! On the last Saturday of the month\, EWBC will open its doors for FREE to the general public. Throughout the day there will be games\, crafts\, puzzles\, and scheduled puppet shows. Ask our Naturalist for a guided tour. Binoculars are available free of charge. NOTE: Free entry does not include fee for concurring programs and activities. Grounds hours: 7 am to 6 pm Center hours: 8 am to 5 pm
X-ALT-DESC;FMTTYPE=text/html:The weather is great\, and wildlife are arriving by the day. It is a wonderful time to get outside and enjoy nature! On the last Saturday of the month\, EWBC will open its doors for FREE to the general public. Throughout the day there will be games\, crafts\, puzzles\, and scheduled puppet shows. Ask our Naturalist for a guided tour. Binoculars are available free of charge. NOTE: Free entry does not include fee for concurring programs and activities. Grounds hours: 7 am to 6 pm Center hours: 8 am to 5 pm
LOCATION:Edinburg World Birding Center\, 714 Raul Longoria Rd.\, Edinburg\, TX 78540
UID:e.1294.30186
SEQUENCE:3
DTSTAMP:20260424T011951Z
URL:https://business.rgvpartnership.com/events/details/spectacular-saturdays-05-30-2015-30186
END:VEVENT

END:VCALENDAR
