BEGIN:VCALENDAR
VERSION:2.0
PRODID:-//ChamberMaster//Event Calendar 2.0//EN
METHOD:PUBLISH
X-PUBLISHED-TTL:P3D
REFRESH-INTERVAL:P3D
CALSCALE:GREGORIAN
BEGIN:VEVENT
DTSTART:20150425T130000Z
DTEND:20150425T220000Z
X-MICROSOFT-CDO-ALLDAYEVENT:FALSE
SUMMARY:Spectacular Saturdays!
DESCRIPTION:The weather is great\, and wildlife are arriving by the day. It is a wonderful time to get outside and enjoy nature! On the last Saturday of the month\, EWBC grounds are for FREE to the general public. Throughout the day there will be outdoor games\, crafts\, puzzles\, and other activities. Ask our Naturalist for a guided tour. Binoculars are available free of charge. NOTE: Due to maintenance\, the Interpretive Center\, Gift Shop and Restrooms will be closed. Please use restrooms in the nearby Park. For questions\, please call (956) 381-9922. Grounds hours: 7 am to 6 pm
X-ALT-DESC;FMTTYPE=text/html:The weather is great\, and wildlife are arriving by the day. It is a wonderful time to get outside and enjoy nature! On the last Saturday of the month\, EWBC grounds are for FREE to the general public. Throughout the day there will be outdoor games\, crafts\, puzzles\, and other activities. Ask our Naturalist for a guided tour. Binoculars are available free of charge. NOTE: Due to maintenance\, the Interpretive Center\, Gift Shop and Restrooms will be closed. Please use restrooms in the nearby Park. For questions\, please call (956) 381-9922. Grounds hours: 7 am to 6 pm
LOCATION:Edinburg World Birding Center\, 714 Raul Longoria Rd.\, Edinburg\, TX 78540
UID:e.1294.30179
SEQUENCE:3
DTSTAMP:20260425T173141Z
URL:https://business.rgvpartnership.com/events/details/spectacular-saturdays-04-25-2015-30179
END:VEVENT

END:VCALENDAR
