BEGIN:VCALENDAR
VERSION:2.0
PRODID:-//ChamberMaster//Event Calendar 2.0//EN
METHOD:PUBLISH
X-PUBLISHED-TTL:P3D
REFRESH-INTERVAL:P3D
CALSCALE:GREGORIAN
BEGIN:VEVENT
DTSTART:20141122T170000Z
DTEND:20141122T210000Z
X-MICROSOFT-CDO-ALLDAYEVENT:FALSE
SUMMARY:South Texas ISD 50 Year Anniversary Celebration
DESCRIPTION:Please join us as we celebrate a half -century of providing quality education to the students of the Rio Grand Valley and look ahead at the bright future of education in the region!
X-ALT-DESC;FMTTYPE=text/html:Please join us as we celebrate a half -century of providing quality education to the students of the Rio Grand Valley and look ahead at the bright future of education in the region!
LOCATION:STISD Mercedes Campus 100 Med High Drive Mercedes\, TX (Mile 2 West and Expressway 83/1-2)
UID:e.1294.30108
SEQUENCE:3
DTSTAMP:20260426T010354Z
URL:https://business.rgvpartnership.com/events/details/south-texas-isd-50-year-anniversary-celebration-11-22-2014-30108
END:VEVENT

END:VCALENDAR
