BEGIN:VCALENDAR
VERSION:2.0
PRODID:-//ChamberMaster//Event Calendar 2.0//EN
METHOD:PUBLISH
X-PUBLISHED-TTL:P3D
REFRESH-INTERVAL:P3D
CALSCALE:GREGORIAN
BEGIN:VEVENT
DTSTART:20180106T140000Z
DTEND:20180106T180000Z
X-MICROSOFT-CDO-ALLDAYEVENT:FALSE
SUMMARY:South Texas Health System ER Monte Cristo Ribbon Cutting/Tour/Health Fair/
DESCRIPTION:South Texas Health System invites our local leaders and the community to the official ribbon cutting of the STHS ER Monte Cristo in Edinburg on January 6\, 2018. The free-standing emergency department is one of several ER's STHS is proud to bring Hidalgo County to serve the health care needs of residents 24 hours a day\, 7 days a week.
X-ALT-DESC;FMTTYPE=text/html:South Texas Health System invites our local leaders and the community to the official ribbon cutting of the STHS ER Monte Cristo in Edinburg on January 6\, 2018. The free-standing emergency department is one of several ER&#39\;s STHS is proud to bring Hidalgo County to serve the health care needs of residents 24 hours a day\, 7 days a week.
LOCATION:3516 N. Interstate 69C Edinburg\, TX.
UID:e.1294.30407
SEQUENCE:3
DTSTAMP:20260423T152943Z
URL:https://business.rgvpartnership.com/events/details/south-texas-health-system-er-monte-cristo-ribbon-cutting-tour-health-fair-30407
END:VEVENT

END:VCALENDAR
