BEGIN:VCALENDAR
VERSION:2.0
PRODID:-//ChamberMaster//Event Calendar 2.0//EN
METHOD:PUBLISH
X-PUBLISHED-TTL:P3D
REFRESH-INTERVAL:P3D
CALSCALE:GREGORIAN
BEGIN:VEVENT
DTSTART;VALUE=DATE:20190603
DTEND;VALUE=DATE:20190727
TRANSP:TRANSPARENT
X-MICROSOFT-CDO-ALLDAYEVENT:TRUE
SUMMARY:South Texas College 2019 Kids Summer Camps
DESCRIPTION:Kids Summer Camps at South Texas College will include Aviation\, Sewing\, Cyberpatriot\, Introduction to Game Development\, Introduction to Mobile App Development\, and Advanced Mobile App Development. Please click on our link to see all programs\, dates and times. https://www.southtexascollege.edu/summer-camps/index.html?fbclid=IwAR2RFxRVnrOZ_ov5SkYPI-2XrzzBY5S8kkdrSqOX50eHiLg1iTqTFAxcCQo
X-ALT-DESC;FMTTYPE=text/html:Kids Summer Camps at South Texas College will include Aviation\, Sewing\, Cyberpatriot\, Introduction to Game Development\, Introduction to Mobile App Development\, and Advanced Mobile App Development. Please click on our link to see all programs\, dates and times. https://www.southtexascollege.edu/summer-camps/index.html?fbclid=IwAR2RFxRVnrOZ_ov5SkYPI-2XrzzBY5S8kkdrSqOX50eHiLg1iTqTFAxcCQo
LOCATION:South Texas College Campuses\, McAllen
UID:e.1294.30434
SEQUENCE:3
DTSTAMP:20260422T141554Z
URL:https://business.rgvpartnership.com/events/details/south-texas-college-2019-kids-summer-camps-30434
END:VEVENT

END:VCALENDAR
