BEGIN:VCALENDAR
VERSION:2.0
PRODID:-//ChamberMaster//Event Calendar 2.0//EN
METHOD:PUBLISH
X-PUBLISHED-TTL:P3D
REFRESH-INTERVAL:P3D
CALSCALE:GREGORIAN
BEGIN:VEVENT
DTSTART:20190328T183000Z
DTEND:20190328T193000Z
X-MICROSOFT-CDO-ALLDAYEVENT:FALSE
SUMMARY:Small Business Roundtable with the SBA
DESCRIPTION:In furthering the goals of presidential executive orders on regulatory reform\, Region 6 Small Business Advocate Rhett Davis of the SBA's Office of Advocacy will be at the RGV Partnership on Thursday\, March 28th\, 2019. \n\n\n\nThe goal of the visit is to hear directly from small business owners about specific federal regulations that concern them the most. This is an opportunity for small businesses to educate the Office of Advocacy through first-hand accounts of how they are impacted by federal regulations.  The information gathered at the forum will be utilized to inform agencies\, Congress and the public on what specific regulations can be modified or removed to help small businesses.
X-ALT-DESC;FMTTYPE=text/html:<span style="font-size:14px\;"><span style="font-family:verdana\;">In furthering the goals of presidential executive orders on regulatory reform\, <strong>Region 6 Small Business Advocate Rhett Davis</strong> of the <strong>SBA&rsquo\;s Office of Advocacy</strong> will be at the RGV Partnership on Thursday\, March 28th\, 2019.&nbsp\;<br />\n<br />\nThe goal of the visit is to hear directly from small business owners about specific federal regulations that concern them the most. This is an opportunity for small businesses to educate the Office of Advocacy through first-hand accounts of how they are impacted by federal regulations.&nbsp\; The information gathered at the forum will be utilized to inform agencies\, Congress and the public on what specific regulations can be modified or removed to help small businesses.</span></span>
LOCATION:Rio Grande Valley Partnership 322 S. Missouri Ave. Weslaco\, Texas 78596
UID:e.1294.30431
SEQUENCE:3
DTSTAMP:20260422T194035Z
URL:https://business.rgvpartnership.com/events/details/small-business-roundtable-with-the-sba-30431
END:VEVENT

END:VCALENDAR
