BEGIN:VCALENDAR
VERSION:2.0
PRODID:-//ChamberMaster//Event Calendar 2.0//EN
METHOD:PUBLISH
X-PUBLISHED-TTL:P3D
REFRESH-INTERVAL:P3D
CALSCALE:GREGORIAN
BEGIN:VEVENT
DTSTART:20150116T140000Z
DTEND:20150116T180000Z
X-MICROSOFT-CDO-ALLDAYEVENT:FALSE
SUMMARY:Senior Health Fair
DESCRIPTION:The Senior Health Fair is coordinated in order to provide information on where to seek medical attention should it become necessary: hospital\, rehab\, doctors\, home nursing care\, just to name a few of the services that participate. Blood pressure checks\, glucose checks\, body mass index are just a few of the free tests that will be available to those who attend. Music\, fun and door prizes too. Why wouldn't you go?
X-ALT-DESC;FMTTYPE=text/html:The Senior Health Fair is coordinated in order to provide information on where to seek medical attention should it become necessary: hospital\, rehab\, doctors\, home nursing care\, just to name a few of the services that participate. Blood pressure checks\, glucose checks\, body mass index are just a few of the free tests that will be available to those who attend. Music\, fun and door prizes too. Why wouldn&#39\;t you go?
LOCATION:Knapp Conference Center 1401 E. 8th Street Weslaco TX 78596 Conference Center is adjacent to Knapp Medical Center on the west side.
UID:e.1294.30009
SEQUENCE:3
DTSTAMP:20260425T215142Z
URL:https://business.rgvpartnership.com/events/details/senior-health-fair-01-16-2015-30009
END:VEVENT

END:VCALENDAR
