BEGIN:VCALENDAR
VERSION:2.0
PRODID:-//ChamberMaster//Event Calendar 2.0//EN
METHOD:PUBLISH
X-PUBLISHED-TTL:P3D
REFRESH-INTERVAL:P3D
CALSCALE:GREGORIAN
BEGIN:VEVENT
DTSTART;VALUE=DATE:20141111
DTEND;VALUE=DATE:20141112
TRANSP:TRANSPARENT
X-MICROSOFT-CDO-ALLDAYEVENT:TRUE
SUMMARY:Save the Bus Campaign
DESCRIPTION:Help Save the America's Las Patrol Post 3 Veteran's bus.  The Post is accepting donations for the repair\, or purchase of a new Veteran's bus\, to help keep the shuttle running and assisting Rio Grande Valley Veterans.  To make a donation contact Commander Ricardo P Pena.
X-ALT-DESC;FMTTYPE=text/html:<div style="color: gray\;">Help Save the America&#39\;s Las Patrol Post 3 Veteran&#39\;s bus.&nbsp\; The Post is accepting donations for the repair\, or purchase of a new Veteran&#39\;s bus\, to help keep the shuttle running and assisting Rio Grande Valley Veterans.&nbsp\; To make a donation contact Commander Ricardo P Pena.</div>\n
LOCATION:Harlingen Medical Center -Main Lobby 5501 S. Expressway 77 Harlingen\, TX
UID:e.1294.30103
SEQUENCE:3
DTSTAMP:20260426T023558Z
URL:https://business.rgvpartnership.com/events/details/save-the-bus-campaign-11-11-2014-30103
END:VEVENT

END:VCALENDAR
