BEGIN:VCALENDAR
VERSION:2.0
PRODID:-//ChamberMaster//Event Calendar 2.0//EN
METHOD:PUBLISH
X-PUBLISHED-TTL:P3D
REFRESH-INTERVAL:P3D
CALSCALE:GREGORIAN
BEGIN:VEVENT
DTSTART;VALUE=DATE:20190610
DTEND;VALUE=DATE:20191001
TRANSP:TRANSPARENT
X-MICROSOFT-CDO-ALLDAYEVENT:TRUE
SUMMARY:Round trip flights to Mexico City for $250
DESCRIPTION:Take advantage of a special $250 round trip airfare from MFE to Mexico City.  These tickets must be purchased via the website link below.  Limited quantities are available only through September 30\, 2019.  Some restrictions apply.\n\n \n\nhttps://mcallen.org/aeromar-tickets/ \n\n\n\nRestrictions:\n MFE - MEX   MFE route only\n\n Special Price only available thru McAllen Chamber website\n\n Changes and/or refunds are not allowed\n\n Other discounts cannot be combined with this offer\n\n Travel must occur within 6 months of booking\n\n Name on passport must match name on reservation
X-ALT-DESC;FMTTYPE=text/html:<span style="font-size:12.0pt">Take advantage of a special $250 round trip airfare from MFE to Mexico City. &nbsp\;These tickets must be purchased via the website link below. &nbsp\;Limited quantities are available only through September 30\, 2019.&nbsp\; Some restrictions apply.</span><br />\n&nbsp\;<br />\n<span style="font-size:12.0pt"><a href="https://mcallen.org/aeromar-tickets/">https://mcallen.org/aeromar-tickets/</a>&nbsp\;</span><br />\n<br />\n<span style="font-family:arial\,helvetica\,sans-serif"><span style="font-size:14px"><span style="color:red">Restrictions:</span></span></span>\n<div style="margin-left:.31in\; margin-right:0in\; text-align:left"><span style="font-family:arial\,helvetica\,sans-serif"><span style="font-size:14px">&bull\;<span style="color:#002060">MFE - MEX &ndash\; MFE route only</span></span></span></div>\n\n<div style="margin-left:.31in\; margin-right:0in\; text-align:left"><span style="font-family:arial\,helvetica\,sans-serif"><span style="font-size:14px">&bull\;<span style="color:#002060">Special Price only available thru McAllen Chamber website</span></span></span></div>\n\n<div style="margin-left:.31in\; margin-right:0in\; text-align:left"><span style="font-family:arial\,helvetica\,sans-serif"><span style="font-size:14px">&bull\;<span style="color:#002060">Changes and/or refunds are not allowed</span></span></span></div>\n\n<div style="margin-left:.31in\; margin-right:0in\; text-align:left"><span style="font-family:arial\,helvetica\,sans-serif"><span style="font-size:14px">&bull\;<span style="color:#002060">Other discounts cannot be combined with this offer</span></span></span></div>\n\n<div style="margin-left:.31in\; margin-right:0in\; text-align:left"><span style="font-family:arial\,helvetica\,sans-serif"><span style="font-size:14px">&bull\;<span style="color:#002060">Travel </span><span style="color:#002060">must occur within </span><span style="color:#002060">6 months of booking</span></span></span></div>\n\n<div style="margin-left:.31in\; margin-right:0in\; text-align:left"><span style="font-family:arial\,helvetica\,sans-serif"><span style="font-size:14px">&bull\;<span style="color:#002060">Name on passport must match name on reservation</span></span></span></div>\n<br />\n&nbsp\;
LOCATION:
UID:e.1294.30438
SEQUENCE:3
DTSTAMP:20260422T113815Z
URL:https://business.rgvpartnership.com/events/details/round-trip-flights-to-mexico-city-for-250-30438
END:VEVENT

END:VCALENDAR
