BEGIN:VCALENDAR
VERSION:2.0
PRODID:-//ChamberMaster//Event Calendar 2.0//EN
METHOD:PUBLISH
X-PUBLISHED-TTL:P3D
REFRESH-INTERVAL:P3D
CALSCALE:GREGORIAN
BEGIN:VEVENT
DTSTART:20141019T170000Z
DTEND:20141019T220000Z
X-MICROSOFT-CDO-ALLDAYEVENT:FALSE
SUMMARY:Rio Grande Valley Quinceañera & Wedding Fair 2014
DESCRIPTION:Don't miss Rio Grande Valley's Quincea era & Wedding Fair Sunday\, October 19\, 2014 12noon- 5pm The McAllen Convention Center Admission $12.00 *Fashion Shows *Food & Cake Samples *Door Prizes & many more! For more information call 1-888-828-1314 or visit www.quinceaneraevents.com Limited vendor space still available.
X-ALT-DESC;FMTTYPE=text/html:Don&#39\;t miss Rio Grande Valley&#39\;s Quincea&ntilde\;era &amp\; Wedding Fair Sunday\, October 19\, 2014 12noon- 5pm The McAllen Convention Center Admission $12.00 *Fashion Shows *Food &amp\; Cake Samples *Door Prizes &amp\; many more! For more information call 1-888-828-1314 or visit www.quinceaneraevents.com Limited vendor space still available.
LOCATION:McAllen Convention Center 700 Convention Center Blvd. McAllen\, Tx. 78501
UID:e.1294.30077
SEQUENCE:3
DTSTAMP:20260426T024002Z
URL:https://business.rgvpartnership.com/events/details/rio-grande-valley-quincea&#241;era-wedding-fair-2014-10-19-2014-30077
END:VEVENT

END:VCALENDAR
