BEGIN:VCALENDAR
VERSION:2.0
PRODID:-//ChamberMaster//Event Calendar 2.0//EN
METHOD:PUBLISH
X-PUBLISHED-TTL:P3D
REFRESH-INTERVAL:P3D
CALSCALE:GREGORIAN
BEGIN:VEVENT
DTSTART:20180428T150000Z
DTEND:20180428T200000Z
X-MICROSOFT-CDO-ALLDAYEVENT:FALSE
SUMMARY:Rio Grande Valley Hurricane Ready Expo
DESCRIPTION:This unique event provides educational tools for residents of the Rio Grande Valley in preparation for Hurricane season (June 1   November 30). The event aims to educate Rio Grande Valley residents about the risk\, dangers and actions to take before\, during and after a hurricane. Event elements feature guest speakers\, a services expo and activities for both kids and adults. The event is FREE for all participants.
X-ALT-DESC;FMTTYPE=text/html:This unique event provides educational tools for residents of the Rio Grande Valley in preparation for Hurricane season (June 1 &ndash\; November 30). The event aims to educate Rio Grande Valley residents about the risk\, dangers and actions to take before\, during and after a hurricane. Event elements feature guest speakers\, a services expo and activities for both kids and adults. The event is FREE for all participants.
LOCATION:South Texas College - Mid Valley 400 N. Border Ave. Weslaco\, TX
UID:e.1294.30418
SEQUENCE:3
DTSTAMP:20260423T112025Z
URL:https://business.rgvpartnership.com/events/details/rio-grande-valley-hurricane-ready-expo-30418
END:VEVENT

END:VCALENDAR
