BEGIN:VCALENDAR
VERSION:2.0
PRODID:-//ChamberMaster//Event Calendar 2.0//EN
METHOD:PUBLISH
X-PUBLISHED-TTL:P3D
REFRESH-INTERVAL:P3D
CALSCALE:GREGORIAN
BEGIN:VEVENT
DTSTART:20180428T150000Z
DTEND:20180428T200000Z
X-MICROSOFT-CDO-ALLDAYEVENT:FALSE
SUMMARY:Rio Grande Valley Hurricane Ready Expo 2018
DESCRIPTION:Event aims to educate Rio Grande Valley residents about the risks\, dangers and actions to take before\, during and after a hurricane. Event elements feature guest speakers\, a services expo and activities for kids and adults. The event is free for all participants
X-ALT-DESC;FMTTYPE=text/html:Event aims to educate Rio Grande Valley residents about the risks\, dangers and actions to take before\, during and after a hurricane. Event elements feature guest speakers\, a services expo and activities for kids and adults. The event is free for all participants
LOCATION:South Texas College Mid- Valley Campus\, Building I (Student Services Building)
UID:e.1294.30416
SEQUENCE:3
DTSTAMP:20260423T112036Z
URL:https://business.rgvpartnership.com/events/details/rio-grande-valley-hurricane-ready-expo-2018-30416
END:VEVENT

END:VCALENDAR
