BEGIN:VCALENDAR
VERSION:2.0
PRODID:-//ChamberMaster//Event Calendar 2.0//EN
METHOD:PUBLISH
X-PUBLISHED-TTL:P3D
REFRESH-INTERVAL:P3D
CALSCALE:GREGORIAN
BEGIN:VEVENT
DTSTART:20161015T150000Z
DTEND:20161015T190000Z
X-MICROSOFT-CDO-ALLDAYEVENT:FALSE
SUMMARY:Rio Grande Delta International Archeology Fair
DESCRIPTION:Palo Alto Battlefield National Historical Park is hosting the 8th Annual Rio Grande Delta International Archaeology Fair. The fair will provide the community an opportunity to learn about archaeology\, local archaeological resources\, and the value of resource preservation. There will be exhibits by professional and amateur archaeologists\, as well as local museums from both sides of the border. Come see displays on local archaeological investigations and demonstrations of period technological advances. The fair will offer educational games and activities for visitors of all ages.
X-ALT-DESC;FMTTYPE=text/html:Palo Alto Battlefield National Historical Park is hosting the 8th Annual Rio Grande Delta International Archaeology Fair. The fair will provide the community an opportunity to learn about archaeology\, local archaeological resources\, and the value of resource preservation. There will be exhibits by professional and amateur archaeologists\, as well as local museums from both sides of the border. Come see displays on local archaeological investigations and demonstrations of period technological advances. The fair will offer educational games and activities for visitors of all ages.
LOCATION:Palo Alto Battlefield NHP 7200 Paredes Line Road Brownsville\, TX 78520
UID:e.1294.30359
SEQUENCE:3
DTSTAMP:20260424T132241Z
URL:https://business.rgvpartnership.com/events/details/rio-grande-delta-international-archeology-fair-10-15-2016-30359
END:VEVENT

END:VCALENDAR
