BEGIN:VCALENDAR
VERSION:2.0
PRODID:-//ChamberMaster//Event Calendar 2.0//EN
METHOD:PUBLISH
X-PUBLISHED-TTL:P3D
REFRESH-INTERVAL:P3D
CALSCALE:GREGORIAN
BEGIN:VEVENT
DTSTART:20161108T013000Z
DTEND:20161108T030000Z
X-MICROSOFT-CDO-ALLDAYEVENT:FALSE
SUMMARY:Rio Bravo Percussion Ensemble Concert
DESCRIPTION:
X-ALT-DESC;FMTTYPE=text/html:
LOCATION:TSC Arts Center 80 Fort Brown St. Brownsville\, TX. 78526
UID:e.1294.30319
SEQUENCE:3
DTSTAMP:20260424T132129Z
URL:https://business.rgvpartnership.com/events/details/rio-bravo-percussion-ensemble-concert-11-07-2016-30319
END:VEVENT

END:VCALENDAR
