BEGIN:VCALENDAR
VERSION:2.0
PRODID:-//ChamberMaster//Event Calendar 2.0//EN
METHOD:PUBLISH
X-PUBLISHED-TTL:P3D
REFRESH-INTERVAL:P3D
CALSCALE:GREGORIAN
BEGIN:VEVENT
DTSTART:20170411T003000Z
DTEND:20170411T020000Z
X-MICROSOFT-CDO-ALLDAYEVENT:FALSE
SUMMARY:Rio Bravo Percussion Ensemble Concert
DESCRIPTION:
X-ALT-DESC;FMTTYPE=text/html:
LOCATION:TSC Arts Center 80 Fort Brown St. Brownsville\, TX. 78520
UID:e.1294.30345
SEQUENCE:3
DTSTAMP:20260424T041444Z
URL:https://business.rgvpartnership.com/events/details/rio-bravo-percussion-ensemble-concert-04-10-2017-30345
END:VEVENT

END:VCALENDAR
