BEGIN:VCALENDAR
VERSION:2.0
PRODID:-//ChamberMaster//Event Calendar 2.0//EN
METHOD:PUBLISH
X-PUBLISHED-TTL:P3D
REFRESH-INTERVAL:P3D
CALSCALE:GREGORIAN
BEGIN:VEVENT
DTSTART:20150117T160000Z
DTEND:20150117T170000Z
X-MICROSOFT-CDO-ALLDAYEVENT:FALSE
SUMMARY:Richard Moore - Outdoor Reporter
DESCRIPTION:January 17\,2015 10:00am Valley Nature Center welcomes Richard Moore - Outdoor Reporter "I strive to capture that flicker of wildness and share it with my audience." Bring the kids!!! Richard is great with kids and questions. They will love the Valley Nature Center\, after the talk explore the trails. Fun for everyone and a great day outdoors enjoying the wonders of our natural world. Trails are an easy walk\, so no worries. Stop by the native plant nursery and visit with Daniel\, he can talk with you about your plant needs.
X-ALT-DESC;FMTTYPE=text/html:January 17\,2015 10:00am Valley Nature Center welcomes Richard Moore - Outdoor Reporter &quot\;I strive to capture that flicker of wildness and share it with my audience.&quot\; Bring the kids!!! Richard is great with kids and questions. They will love the Valley Nature Center\, after the talk explore the trails. Fun for everyone and a great day outdoors enjoying the wonders of our natural world. Trails are an easy walk\, so no worries. Stop by the native plant nursery and visit with Daniel\, he can talk with you about your plant needs.
LOCATION:Valley Nature Center 301 South Border Ave. Weslaco\, Tx 78596
UID:e.1294.30130
SEQUENCE:3
DTSTAMP:20260425T232322Z
URL:https://business.rgvpartnership.com/events/details/richard-moore-outdoor-reporter-01-17-2015-30130
END:VEVENT

END:VCALENDAR
