BEGIN:VCALENDAR
VERSION:2.0
PRODID:-//ChamberMaster//Event Calendar 2.0//EN
METHOD:PUBLISH
X-PUBLISHED-TTL:P3D
REFRESH-INTERVAL:P3D
CALSCALE:GREGORIAN
BEGIN:VEVENT
DTSTART;VALUE=DATE:20141008
DTEND;VALUE=DATE:20141013
TRANSP:TRANSPARENT
X-MICROSOFT-CDO-ALLDAYEVENT:TRUE
SUMMARY:Richard III by: William Shakespeare
DESCRIPTION:One of William Shakespear's most famous history plays\, features an entertainingly villainous title character as darkly humorous as he is evil.  given our fairly recent world history of Hitler\, Stalin and other despots\, the play continues to intrigue as a metaphor for power politics anywhere.  Watch as Richard manipulates and charms to try to win a kingdom een as the ghosts of his victims haunt him\, right to the final climactic battle when the unhorsed Richard cries\, "A horse! A horse! My Kingdom for a horse!"
X-ALT-DESC;FMTTYPE=text/html:One of William Shakespear&#39\;s most famous history plays\, features an entertainingly villainous title character as darkly humorous as he is evil.&nbsp\; given our fairly recent world history of Hitler\, Stalin and other despots\,&nbsp\;the play continues to intrigue as a metaphor for power politics anywhere.&nbsp\; Watch as Richard manipulates and charms to try to win a kingdom een as the ghosts of his victims haunt him\, right to the final climactic battle when the unhorsed Richard cries\, &quot\;A horse! A horse! My Kingdom for a horse!&quot\;
LOCATION:Albert L. Jeffers Theater 1201 West University Drive Edinburg\, TX 78539
UID:e.1294.30072
SEQUENCE:3
DTSTAMP:20260426T023710Z
URL:https://business.rgvpartnership.com/events/details/richard-iii-by-william-shakespeare-10-08-2014-30072
END:VEVENT

END:VCALENDAR
