BEGIN:VCALENDAR
VERSION:2.0
PRODID:-//ChamberMaster//Event Calendar 2.0//EN
METHOD:PUBLISH
X-PUBLISHED-TTL:P3D
REFRESH-INTERVAL:P3D
CALSCALE:GREGORIAN
BEGIN:VEVENT
DTSTART:20200115T220000Z
DTEND:20200116T000000Z
X-MICROSOFT-CDO-ALLDAYEVENT:FALSE
SUMMARY:Ribbon Cutting - Valley Baptist Micro-Hospital
DESCRIPTION:Please join us as we celebrate the opening of the Valley's FIRST Micro- Hospital.
X-ALT-DESC;FMTTYPE=text/html:<span style="font-size:16px\;"><span style="font-family:verdana\;">Please join us as we celebrate the opening of the Valley&#39\;s FIRST Micro- Hospital.</span></span>
LOCATION:1021 W Interstate 2\, Weslaco\, Texas 78596 (Between Texas and Westgate on Expressway 83)
UID:e.1294.30450
SEQUENCE:3
DTSTAMP:20260422T083539Z
URL:https://business.rgvpartnership.com/events/details/ribbon-cutting-valley-baptist-micro-hospital-30450
END:VEVENT

END:VCALENDAR
