BEGIN:VCALENDAR
VERSION:2.0
PRODID:-//ChamberMaster//Event Calendar 2.0//EN
METHOD:PUBLISH
X-PUBLISHED-TTL:P3D
REFRESH-INTERVAL:P3D
CALSCALE:GREGORIAN
BEGIN:VEVENT
DTSTART:20200121T173000Z
DTEND:20200121T193000Z
X-MICROSOFT-CDO-ALLDAYEVENT:FALSE
SUMMARY:Ribbon Cutting for Tropical Trails RV Resort
DESCRIPTION:
X-ALT-DESC;FMTTYPE=text/html:
LOCATION:3605 S. FM 511\, Brownsville\, Texas 78526
UID:e.1294.30443
SEQUENCE:3
DTSTAMP:20260420T080802Z
URL:https://business.rgvpartnership.com/events/details/ribbon-cutting-for-tropical-trails-rv-resort-30443
END:VEVENT

END:VCALENDAR
