BEGIN:VCALENDAR
VERSION:2.0
PRODID:-//ChamberMaster//Event Calendar 2.0//EN
METHOD:PUBLISH
X-PUBLISHED-TTL:P3D
REFRESH-INTERVAL:P3D
CALSCALE:GREGORIAN
BEGIN:VEVENT
DTSTART:20160323T133000Z
DTEND:20160323T193000Z
X-MICROSOFT-CDO-ALLDAYEVENT:FALSE
SUMMARY:RGV Millennials 2016 Summit
DESCRIPTION:RGV Millennials\, a forward-thinking initiative dedicated to spreading a message of inclusion and information\, will host its first summit featuring panel discussions and keynote speeches on topics significant to Millennials in the Rio Grande Valley on March 23\, 2016 at the Edinburg Conference Center at Doctors Hospital Renaissance.
X-ALT-DESC;FMTTYPE=text/html:RGV Millennials\, a forward-thinking initiative dedicated to spreading a message of inclusion and information\, will host its first summit featuring panel discussions and keynote speeches on topics significant to Millennials in the Rio Grande Valley on March 23\, 2016 at the Edinburg Conference Center at Doctors Hospital Renaissance.
LOCATION:Edinburg Conference Center\, 118 Pase Del Prado\, Edinburg\, Texas
UID:e.1294.30276
SEQUENCE:3
DTSTAMP:20260422T064731Z
URL:https://business.rgvpartnership.com/events/details/rgv-millennials-2016-summit-03-23-2016-30276
END:VEVENT

END:VCALENDAR
