BEGIN:VCALENDAR
VERSION:2.0
PRODID:-//ChamberMaster//Event Calendar 2.0//EN
METHOD:PUBLISH
X-PUBLISHED-TTL:P3D
REFRESH-INTERVAL:P3D
CALSCALE:GREGORIAN
BEGIN:VEVENT
DTSTART;VALUE=DATE:20170529
DTEND;VALUE=DATE:20170827
TRANSP:TRANSPARENT
X-MICROSOFT-CDO-ALLDAYEVENT:TRUE
SUMMARY:RGV Family Summer Adventure Challenge
DESCRIPTION:RGV Family Summer Adventure Challenge May 27   August 26 Get outside and enjoy the outdoors with the Family Summer Adventure Challenge. Families with children visit different nature centers\, parks and refuges of the Rio Grande Valley to complete fun challenges in nature. From riding a bike\, to photographing birds\, there are challenges for everyone's interests and abilities. Once you complete the challenges and submit your journal\, your family will be placed in a drawing for the opportunity to win cool prizes. Registration is available throughout the summer during operating hours\, and at participating nature sites\, or you can register on-line at NatureChallenge.tamu.edu
X-ALT-DESC;FMTTYPE=text/html:RGV Family Summer Adventure Challenge May 27 &ndash\; August 26 Get outside and enjoy the outdoors with the Family Summer Adventure Challenge. Families with children visit different nature centers\, parks and refuges of the Rio Grande Valley to complete fun challenges in nature. From riding a bike\, to photographing birds\, there are challenges for everyone&#39\;s interests and abilities. Once you complete the challenges and submit your journal\, your family will be placed in a drawing for the opportunity to win cool prizes. Registration is available throughout the summer during operating hours\, and at participating nature sites\, or you can register on-line at NatureChallenge.tamu.edu
LOCATION:Laguna Atascosa National Wildlife Refuge 22688 Buena Vista Rd Los Fresnos\, TX 78566
UID:e.1294.30386
SEQUENCE:3
DTSTAMP:20260423T223718Z
URL:https://business.rgvpartnership.com/events/details/rgv-family-summer-adventure-challenge-30386
END:VEVENT

END:VCALENDAR
